BEGIN:VCALENDAR
PRODID:-//eluceo/ical//2.0/EN
VERSION:2.0
CALSCALE:GREGORIAN
BEGIN:VEVENT
UID:082e0a8aee6af7516d3b73f0f9aef9a4
DTSTAMP:20260423T152323Z
SUMMARY:Annual Polaris meeting 2024 in Stockholm
DESCRIPTION:Web stranica: https://maps.app.goo.gl/LbzAapVsXqixBddeA\nGovorn
 ik(ci): Jan Trnka - Polaris product manager and \nIT responsible ARMChrist
 ian Mayer - Polaris Team member
URL:https://team.polaris.rotary.ch/bs/agenda/show/179105
DTSTART;TZID=Europe/Zurich:20241115T090000
DTEND;TZID=Europe/Zurich:20241115T150000
LOCATION:Odd Fellow\, Västra Trädgårdsgatan 11A\, 111 53 Stockholm\, Swe
 den
CATEGORIES:Rotary
END:VEVENT
BEGIN:VTIMEZONE
TZID:Europe/Zurich
BEGIN:STANDARD
DTSTART:20241115T090000
TZNAME:CET
TZOFFSETTO:+0100
TZOFFSETFROM:+0100
END:STANDARD
END:VTIMEZONE
END:VCALENDAR
