BEGIN:VCALENDAR
PRODID:-//eluceo/ical//2.0/EN
VERSION:2.0
CALSCALE:GREGORIAN
BEGIN:VEVENT
UID:a48a08686279e6930b5e3480d3947867
DTSTAMP:20260423T121049Z
SUMMARY:Annual Polaris meeting 2024 in Barcelona
DESCRIPTION:Web stranica: https://www.granhotelhavana.com/\nGovornik(ci): \
 nJan Trnka - Polaris product manager and IT responsible Marion de Lattre W
 iesel - Polaris Team member
URL:https://team.polaris.rotary.ch/bs/agenda/show/185515
DTSTART;TZID=Europe/Zurich:20241125T093000
DTEND;TZID=Europe/Zurich:20241125T163000
LOCATION:Gran Hotel Havana
CATEGORIES:Rotary
END:VEVENT
BEGIN:VTIMEZONE
TZID:Europe/Zurich
BEGIN:STANDARD
DTSTART:20241125T093000
TZNAME:CET
TZOFFSETTO:+0100
TZOFFSETFROM:+0100
END:STANDARD
END:VTIMEZONE
END:VCALENDAR
