BEGIN:VCALENDAR
PRODID:-//eluceo/ical//2.0/EN
VERSION:2.0
CALSCALE:GREGORIAN
BEGIN:VEVENT
UID:250b40b09d2b84012bca9902c461ae17
DTSTAMP:20260421T121552Z
SUMMARY:Frühstück im Rest. Vogelsang\, Eich
DESCRIPTION:Webseite: http://www.vogelsang.ch
URL:https://rc-sempachersee.ch/de/agenda/show/196887
DTSTART;TZID=Europe/Zurich:20251127T070000
DTEND;TZID=Europe/Zurich:20251127T080000
LOCATION:Restaurant Vogelsang\, Eichbergstrasse 2\, 6205 Eich\, Schweiz
CATEGORIES:Rotary
END:VEVENT
BEGIN:VTIMEZONE
TZID:Europe/Zurich
BEGIN:STANDARD
DTSTART:20251127T070000
TZNAME:CET
TZOFFSETTO:+0100
TZOFFSETFROM:+0100
END:STANDARD
END:VTIMEZONE
END:VCALENDAR
