BEGIN:VCALENDAR
PRODID:-//eluceo/ical//2.0/EN
VERSION:2.0
CALSCALE:GREGORIAN
BEGIN:VEVENT
UID:a50fcef47195d5bb30044818ba728f66
DTSTAMP:20260425T104003Z
SUMMARY:Partneranlass Brandschutz Ettiswil AG
DESCRIPTION:Website: https://www.be-ettiswil.ch/cms/de/
URL:https://rc-sempachersee.ch/en/agenda/show/196888
DTSTART;TZID=Europe/Zurich:20250828T173000
DTEND;TZID=Europe/Zurich:20250828T230000
LOCATION:Brandschutz Ettiswil AG\, Willisauerstrasse 21\, 6218 Ettiswil
CATEGORIES:Rotary
END:VEVENT
BEGIN:VTIMEZONE
TZID:Europe/Zurich
BEGIN:DAYLIGHT
DTSTART:20250828T173000
TZNAME:CEST
TZOFFSETTO:+0200
TZOFFSETFROM:+0200
END:DAYLIGHT
END:VTIMEZONE
END:VCALENDAR
