BEGIN:VCALENDAR
PRODID:-//eluceo/ical//2.0/EN
VERSION:2.0
CALSCALE:GREGORIAN
BEGIN:VEVENT
UID:d6e53d99fa273230abe4e87aa13fc5bd
DTSTAMP:20260421T133116Z
SUMMARY:Präsenzapéro
DESCRIPTION:Website: http://www.dieweinerei1877.ch
URL:https://rc-sempachersee.ch/en/agenda/show/205165
DTSTART;TZID=Europe/Zurich:20260506T180000
DTEND;TZID=Europe/Zurich:20260506T190000
LOCATION:Weinerei 1877\, Geuensee
CATEGORIES:Rotary
END:VEVENT
BEGIN:VTIMEZONE
TZID:Europe/Zurich
BEGIN:DAYLIGHT
DTSTART:20260506T180000
TZNAME:CEST
TZOFFSETTO:+0200
TZOFFSETFROM:+0200
END:DAYLIGHT
END:VTIMEZONE
END:VCALENDAR
