BEGIN:VCALENDAR
PRODID:-//eluceo/ical//2.0/EN
VERSION:2.0
CALSCALE:GREGORIAN
BEGIN:VEVENT
UID:3477a627c4613ce3b00e9b2c89b6c5e2
DTSTAMP:20260421T133530Z
SUMMARY:Partneranlass: Klassifikationsvortrag Adrian Blum
DESCRIPTION:Website: https://www.blumeierag.ch/
URL:https://rc-sempachersee.ch/en/agenda/show/205167
DTSTART;TZID=Europe/Zurich:20260509T150000
DTEND;TZID=Europe/Zurich:20260509T210000
LOCATION:Blum Eier AG\, Büel 9\, Gunzwil
CATEGORIES:Rotary
END:VEVENT
BEGIN:VTIMEZONE
TZID:Europe/Zurich
BEGIN:DAYLIGHT
DTSTART:20260509T150000
TZNAME:CEST
TZOFFSETTO:+0200
TZOFFSETFROM:+0200
END:DAYLIGHT
END:VTIMEZONE
END:VCALENDAR
