BEGIN:VCALENDAR
PRODID:-//eluceo/ical//2.0/EN
VERSION:2.0
CALSCALE:GREGORIAN
BEGIN:VEVENT
UID:603ff3c4ca8d7e8fbc72489006d8f00b
DTSTAMP:20260423T030121Z
SUMMARY:Plauderlunch
DESCRIPTION:Website: http://www.hotelsempachersee.ch/
URL:https://rc-sempachersee.ch/en/agenda/show/205183
DTSTART;TZID=Europe/Zurich:20260611T121500
DTEND;TZID=Europe/Zurich:20260611T140000
LOCATION:Hotel Sempachersee\, Restaurant Sempia\, Kantonsstrasse 46\, 6207 
 Nottwil\, Schweiz
CATEGORIES:Rotary
END:VEVENT
BEGIN:VTIMEZONE
TZID:Europe/Zurich
BEGIN:DAYLIGHT
DTSTART:20260611T121500
TZNAME:CEST
TZOFFSETTO:+0200
TZOFFSETFROM:+0200
END:DAYLIGHT
END:VTIMEZONE
END:VCALENDAR
