BEGIN:VCALENDAR
PRODID:-//eluceo/ical//2.0/EN
VERSION:2.0
CALSCALE:GREGORIAN
BEGIN:VEVENT
UID:70b4eda13cedaa9fffa4065817190d78
DTSTAMP:20260420T124806Z
SUMMARY:Plauderlunch im Seminarhotel\, Nottwil
DESCRIPTION:Site internet: http://www.hotelsempachersee.ch/
URL:https://rc-sempachersee.ch/fr/agenda/show/173655
DTSTART;TZID=Europe/Zurich:20240215T114500
DTEND;TZID=Europe/Zurich:20240215T140000
LOCATION:Hotel Sempachersee\, Restaurant Sempia\, Kantonsstrasse 46\, 6207 
 Nottwil\, Schweiz
CATEGORIES:Rotary
END:VEVENT
BEGIN:VTIMEZONE
TZID:Europe/Zurich
BEGIN:STANDARD
DTSTART:20240215T114500
TZNAME:CET
TZOFFSETTO:+0100
TZOFFSETFROM:+0100
END:STANDARD
END:VTIMEZONE
END:VCALENDAR
