BEGIN:VCALENDAR
PRODID:-//eluceo/ical//2.0/EN
VERSION:2.0
CALSCALE:GREGORIAN
BEGIN:VEVENT
UID:ee57bbc4d4ea6868b659578c70a53d07
DTSTAMP:20260424T084333Z
SUMMARY:Frühstück im Seminarhotel\, Nottwil
DESCRIPTION:Site internet: http://www.hotelsempachersee.ch/
URL:https://rc-sempachersee.ch/fr/agenda/show/173656
DTSTART;TZID=Europe/Zurich:20240229T070000
DTEND;TZID=Europe/Zurich:20240229T080000
LOCATION:Hotel Sempachersee\, Restaurant Sempia\, Kantonsstrasse 46\, 6207 
 Nottwil\, Schweiz
CATEGORIES:Rotary
END:VEVENT
BEGIN:VTIMEZONE
TZID:Europe/Zurich
BEGIN:STANDARD
DTSTART:20240229T070000
TZNAME:CET
TZOFFSETTO:+0100
TZOFFSETFROM:+0100
END:STANDARD
END:VTIMEZONE
END:VCALENDAR
