BEGIN:VCALENDAR
PRODID:-//eluceo/ical//2.0/EN
VERSION:2.0
CALSCALE:GREGORIAN
BEGIN:VEVENT
UID:740c8e92c99265843bd91d81e7cbaea0
DTSTAMP:20260421T082811Z
SUMMARY:Lunch mit Karin Stadelmann
DESCRIPTION:Site internet: http://www.hotelsempachersee.ch/
URL:https://rc-sempachersee.ch/fr/agenda/show/205174
DTSTART;TZID=Europe/Zurich:20260521T121500
DTEND;TZID=Europe/Zurich:20260521T140000
LOCATION:Hotel Sempachersee\, Restaurant Sempia\, Kantonsstrasse 46\, 6207 
 Nottwil\, Schweiz
CATEGORIES:Rotary
END:VEVENT
BEGIN:VTIMEZONE
TZID:Europe/Zurich
BEGIN:DAYLIGHT
DTSTART:20260521T121500
TZNAME:CEST
TZOFFSETTO:+0200
TZOFFSETFROM:+0200
END:DAYLIGHT
END:VTIMEZONE
END:VCALENDAR
