BEGIN:VCALENDAR
PRODID:-//eluceo/ical//2.0/EN
VERSION:2.0
CALSCALE:GREGORIAN
BEGIN:VEVENT
UID:9f477dfd7e466f2bba3c06cb910d4bad
DTSTAMP:20260421T094006Z
SUMMARY:Plauderlunch
DESCRIPTION:Site internet: http://www.hotelsempachersee.ch/
URL:https://rc-sempachersee.ch/fr/agenda/show/205180
DTSTART;TZID=Europe/Zurich:20260416T121500
DTEND;TZID=Europe/Zurich:20260416T140000
LOCATION:Hotel Sempachersee\, Restaurant Sempia\, Kantonsstrasse 46\, 6207 
 Nottwil\, Schweiz
CATEGORIES:Rotary
END:VEVENT
BEGIN:VTIMEZONE
TZID:Europe/Zurich
BEGIN:DAYLIGHT
DTSTART:20260416T121500
TZNAME:CEST
TZOFFSETTO:+0200
TZOFFSETFROM:+0200
END:DAYLIGHT
END:VTIMEZONE
END:VCALENDAR
