BEGIN:VCALENDAR
PRODID:-//eluceo/ical//2.0/EN
VERSION:2.0
CALSCALE:GREGORIAN
BEGIN:VEVENT
UID:545a9d419985e8453f409cc843137205
DTSTAMP:20260421T084114Z
SUMMARY:Generalversammlung II im Rest. Sempia\, Nottwil
DESCRIPTION:Site internet: http://www.hotelsempachersee.ch/
URL:https://rc-sempachersee.ch/fr/agenda/show/205190
DTSTART;TZID=Europe/Zurich:20260618T113000
DTEND;TZID=Europe/Zurich:20260618T140000
LOCATION:Hotel Sempachersee\, Restaurant Sempia\, Kantonsstrasse 46\, 6207 
 Nottwil\, Schweiz
CATEGORIES:Rotary
END:VEVENT
BEGIN:VTIMEZONE
TZID:Europe/Zurich
BEGIN:DAYLIGHT
DTSTART:20260618T113000
TZNAME:CEST
TZOFFSETTO:+0200
TZOFFSETFROM:+0200
END:DAYLIGHT
END:VTIMEZONE
END:VCALENDAR
