BEGIN:VCALENDAR
PRODID:-//eluceo/ical//2.0/EN
VERSION:2.0
CALSCALE:GREGORIAN
BEGIN:VEVENT
UID:b2bac3404c4cc4e9b058ab6cddf04558
DTSTAMP:20260423T092456Z
SUMMARY:Lunch mit Irene Gasper
DESCRIPTION:Vefsíða: http://www.hotelsempachersee.ch/
URL:https://rc-sempachersee.ch/is/agenda/show/205172
DTSTART;TZID=Europe/Zurich:20260305T121500
DTEND;TZID=Europe/Zurich:20260305T140000
LOCATION:Hotel Sempachersee\, Restaurant Sempia\, Kantonsstrasse 46\, 6207 
 Nottwil\, Schweiz
CATEGORIES:Rotary
END:VEVENT
BEGIN:VTIMEZONE
TZID:Europe/Zurich
BEGIN:STANDARD
DTSTART:20260305T121500
TZNAME:CET
TZOFFSETTO:+0100
TZOFFSETFROM:+0100
END:STANDARD
END:VTIMEZONE
END:VCALENDAR
