BEGIN:VCALENDAR
PRODID:-//eluceo/ical//2.0/EN
VERSION:2.0
CALSCALE:GREGORIAN
BEGIN:VEVENT
UID:ed794106ea53d807e4f85eb523b696ce
DTSTAMP:20260421T114033Z
SUMMARY:Partneranlass: Brot\, Käse\, Wein: der schönste Dreiklang auf Erd
 en.
DESCRIPTION:Sito web: https://www.intercheese.ch/de/home
URL:https://rc-sempachersee.ch/it/agenda/show/195892
DTSTART;TZID=Europe/Zurich:20250605T180000
DTEND;TZID=Europe/Zurich:20250605T220000
LOCATION:InterCheese AG\, Industriestrasse 22\, 6215 Beromünster
CATEGORIES:Rotary
END:VEVENT
BEGIN:VTIMEZONE
TZID:Europe/Zurich
BEGIN:DAYLIGHT
DTSTART:20250605T180000
TZNAME:CEST
TZOFFSETTO:+0200
TZOFFSETFROM:+0200
END:DAYLIGHT
END:VTIMEZONE
END:VCALENDAR
