BEGIN:VCALENDAR
PRODID:-//eluceo/ical//2.0/EN
VERSION:2.0
CALSCALE:GREGORIAN
BEGIN:VEVENT
UID:793d606fc4260395c9bf2131707cb70b
DTSTAMP:20260422T135946Z
SUMMARY:Plauderlunch
DESCRIPTION:Website: http://www.hotelsempachersee.ch/
URL:https://rc-sempachersee.ch/nl/agenda/show/205181
DTSTART;TZID=Europe/Zurich:20260423T121500
DTEND;TZID=Europe/Zurich:20260423T140000
LOCATION:Hotel Sempachersee\, Restaurant Sempia\, Kantonsstrasse 46\, 6207 
 Nottwil\, Schweiz
CATEGORIES:Rotary
END:VEVENT
BEGIN:VTIMEZONE
TZID:Europe/Zurich
BEGIN:DAYLIGHT
DTSTART:20260423T121500
TZNAME:CEST
TZOFFSETTO:+0200
TZOFFSETFROM:+0200
END:DAYLIGHT
END:VTIMEZONE
END:VCALENDAR
