BEGIN:VCALENDAR
PRODID:-//eluceo/ical//2.0/EN
VERSION:2.0
CALSCALE:GREGORIAN
BEGIN:VEVENT
UID:4478a298117d0ba12b1226fe08423e7f
DTSTAMP:20260420T144009Z
SUMMARY:Jaarprogramma 2026
DESCRIPTION:
URL:https://polaris-academy.org/nl/agenda/show/207644
DTSTART;TZID=Europe/Zurich:20260101T000000
DTEND;TZID=Europe/Zurich:20260101T000000
LOCATION:Polaris Academy Online
CATEGORIES:Rotary
END:VEVENT
BEGIN:VTIMEZONE
TZID:Europe/Zurich
BEGIN:STANDARD
DTSTART:20260101T000000
TZNAME:CET
TZOFFSETTO:+0100
TZOFFSETFROM:+0100
END:STANDARD
END:VTIMEZONE
END:VCALENDAR
