BEGIN:VCALENDAR
PRODID:-//eluceo/ical//2.0/EN
VERSION:2.0
CALSCALE:GREGORIAN
BEGIN:VEVENT
UID:863e0ff97eab359d72a6f430a692cb94
DTSTAMP:20260423T105118Z
SUMMARY:Plauderlunch im Restaurant Vogelsang\, Eich
DESCRIPTION:Webbplats: http://www.vogelsang.ch
URL:https://rc-sempachersee.ch/sv/agenda/show/183085
DTSTART;TZID=Europe/Zurich:20241107T114500
DTEND;TZID=Europe/Zurich:20241107T140000
LOCATION:Restaurant Vogelsang\, Eichbergstrasse 2\, 6205 Eich
CATEGORIES:Rotary
END:VEVENT
BEGIN:VTIMEZONE
TZID:Europe/Zurich
BEGIN:STANDARD
DTSTART:20241107T114500
TZNAME:CET
TZOFFSETTO:+0100
TZOFFSETFROM:+0100
END:STANDARD
END:VTIMEZONE
END:VCALENDAR
